BEGIN:VCALENDAR
VERSION:2.0
PRODID:-// eRoom plugin //NONSGML v1.0//EN
CALSCALE:GREGORIAN
BEGIN:VEVENT
UID:eRoom-1776760494
SUMMARY:Aula 1 Ao Vivo com Dr. Frederico Meirelles
LOCATION:Zoom
DESCRIPTION:Aula 1 Ao Vivo com Dr. Frederico Meirelles is inviting you to a
  scheduled Zoom meeting.\n\nJoin Zoom Meeting\nhttps://us06web.zoom.us/j/8
 6245813034?pwd=3JU62fKj1MLabzKTDqBYQUV36BKAni.1\n\nMeeting ID: 86245813034
 \nPasscode: 6pus10\n
URL;VALUE=URI:https://us06web.zoom.us/j/86245813034?pwd=3JU62fKj1MLabzKTDqBYQUV36BKAni.1
DTSTART:20251115T110000Z
DTEND:20251115T111000Z
DTSTAMP:20260421T083454Z
BEGIN:VALARM
ACTION:DISPLAY
DESCRIPTION:Reminder
TRIGGER;RELATED=START:-PT15M
END:VALARM
END:VEVENT
END:VCALENDAR